{
 "currentVersion": 11.5,
 "serviceDescription": "PublicSites/ShadedRelief",
 "name": "PublicSites/ShadedRelief",
 "description": "",
 "extent": {
  "xmin": 569840.5280313939,
  "ymin": 14945.862908775453,
  "xmax": 1861611.3754405687,
  "ymax": 1250219.3457019627,
  "spatialReference": {
   "wkid": 103150,
   "latestWkid": 6574
  }
 },
 "initialExtent": {
  "xmin": 569840.5280313939,
  "ymin": 14945.862908775453,
  "xmax": 1861611.3754405687,
  "ymax": 1250219.3457019627,
  "spatialReference": {
   "wkid": 103150,
   "latestWkid": 6574
  }
 },
 "fullExtent": {
  "xmin": 569840.5280313939,
  "ymin": 14945.862908775453,
  "xmax": 1861611.3754405687,
  "ymax": 1250219.3457019627,
  "spatialReference": {
   "wkid": 103150,
   "latestWkid": 6574
  }
 },
 "sortableFields": "",
 "bandCount": 1,
 "pixelType": "U8",
 "minValues": [
  0
 ],
 "maxValues": [
  255
 ],
 "meanValues": [
  176.60195563753197
 ],
 "stdvValues": [
  22.398410988419002
 ],
 "serviceProperties": "Center<\/MosaicMethod>First<\/MosaicOperator>true<\/SortAscending><\/LockImageID><\/TileOrderField>0<\/TileOrderBase>0.000000<\/AvgImageSpacingX>0.000000<\/AvgImageSpacingY>0.0<\/ViewPointX>0.0<\/ViewPointY>0.0<\/ViewPointDefShiftX>0.0<\/ViewPointDefShiftY>None<\/CompressionMethod>75<\/CompressionQuality>0.010000<\/CompressionTolerance>Bilinear<\/SamplingMethod><\/ImageServiceProperties><\/ImageServer>",
 "allowedFields": "",
 "hasMultidimensions": false,
 "pixelSizeX": 226.11077322058023,
 "pixelSizeY": 314.23899333329615,
 "meanPixelSize": 82.34946912174902,
 "datasetFormat": "FGDBR",
 "uncompressedSize": 22457803,
 "blockWidth": 128,
 "blockHeight": 128,
 "compressionType": "LZ77",
 "bandNames": [
  "Band_1"
 ],
 "allowCopy": true,
 "allowAnalysis": true,
 "itemAccess": false,
 "inspectionCapabilities": "",
 "minPixelSize": 0,
 "maxPixelSize": 0,
 "copyrightText": "",
 "serviceDataType": "esriImageServiceDataTypeGeneric",
 "serviceSourceType": "esriImageServiceSourceTypeDataset",
 "objectIdField": "",
 "fields": [],
 "capabilities": "Image,Metadata,Mensuration",
 "defaultMosaicMethod": "Center",
 "allowedMosaicMethods": "",
 "sortField": "",
 "sortValue": null,
 "sortAscending": true,
 "mosaicOperator": "First",
 "defaultCompressionQuality": 75,
 "defaultResamplingMethod": "Bilinear",
 "maxImageHeight": 4100,
 "maxImageWidth": 15000,
 "allowRasterFunction": true,
 "rasterFunctionInfos": [
  {
   "name": "None",
   "description": "",
   "help": ""
  }
 ],
 "rasterTypeInfos": [
  {
   "name": "Raster Dataset",
   "description": "Supports all ArcGIS Raster Datasets",
   "help": ""
  }
 ],
 "mensurationCapabilities": "Basic",
 "hasHistograms": true,
 "hasColormap": false,
 "hasRasterAttributeTable": false,
 "minScale": 0,
 "maxScale": 0,
 "exportTilesAllowed": false,
 "supportsStatistics": false,
 "supportsAdvancedQueries": false,
 "editFieldsInfo": null,
 "ownershipBasedAccessControlForRasters": null,
 "allowComputeTiePoints": false,
 "useStandardizedQueries": true,
 "advancedQueryCapabilities": {
  "useStandardizedQueries": true,
  "supportsStatistics": false,
  "supportsOrderBy": false,
  "supportsDistinct": false,
  "supportsPagination": false
 },
 "spatialReference": {
  "wkid": 103150,
  "latestWkid": 6574
 }
}
