View In:
ArcGIS JavaScript
ArcGIS Online Map Viewer
ArcGIS Earth
Service Description: AGOL/MPOHillshade
Name: AGOL/MPOHillshade
Description:
Single Fused Map Cache: false
Extent:
XMin: 1100444.6692668675
YMin: 570754.7116321687
XMax: 1309544.6692668675
YMax: 764104.7116321687
Spatial Reference: 102735
(3455)
LatestVCSWkid(0)
Initial Extent:
XMin: 1100444.6692668675
YMin: 570754.7116321687
XMax: 1309544.6692668675
YMax: 764104.7116321687
Spatial Reference: 102735
(3455)
LatestVCSWkid(0)
Full Extent:
XMin: 1100444.6692668675
YMin: 570754.7116321687
XMax: 1309544.6692668675
YMax: 764104.7116321687
Spatial Reference: 102735
(3455)
LatestVCSWkid(0)
Pixel Size X: 5.0
Pixel Size Y: 5.0
Band Count: 1
Pixel Type: U8
RasterFunction Infos: {"rasterFunctionInfos": [{
"name": "None",
"description": "",
"help": ""
}]}
Mensuration Capabilities: Basic
Inspection Capabilities:
Has Histograms: true
Has Colormap: false
Has Multi Dimensions : false
Rendering Rule:
Min Scale: 0
Max Scale: 0
Resampling: false
Copyright Text:
Service Data Type: esriImageServiceDataTypeGeneric
Min Values: 0
Max Values: 254
Mean Values: 169.57685411196033
Standard Deviation Values: 39.376158638335234
Object ID Field:
Fields:
None
Default Mosaic Method: Center
Allowed Mosaic Methods:
SortField:
SortValue: null
Mosaic Operator: First
Default Compression Quality: 75
Default Resampling Method: Bilinear
Max Record Count: null
Max Image Height: 4100
Max Image Width: 15000
Max Download Image Count: null
Max Mosaic Image Count: null
Allow Raster Function: true
Allow Copy: true
Allow Analysis: true
Allow Compute TiePoints: false
Supports Statistics: false
Supports Advanced Queries: false
Use StandardizedQueries: true
Raster Type Infos:
Name: Raster Dataset
Description: Supports all ArcGIS Raster Datasets
Help:
Has Raster Attribute Table: true
Edit Fields Info: null
Ownership Based AccessControl For Rasters: null
Child Resources:
Info
Raster Attribute Table
Histograms
Statistics
Key Properties
Legend
Raster Function Infos
Supported Operations:
Export Image
Identify
Measure
Compute Histograms
Compute Statistics Histograms
Get Samples
Compute Class Statistics
Query Boundary
Compute Pixel Location
Compute Angles
Validate
Project