View In:
ArcGIS JavaScript
ArcGIS Online Map Viewer
ArcGIS Earth
Service Description: PublicSites/ShadedRelief
Name: PublicSites/ShadedRelief
Description:
Single Fused Map Cache: false
Extent:
XMin: 569840.5280313939
YMin: 14945.862908775453
XMax: 1861611.3754405687
YMax: 1250219.3457019627
Spatial Reference: 103150
(6574)
LatestVCSWkid(0)
Initial Extent:
XMin: 569840.5280313939
YMin: 14945.862908775453
XMax: 1861611.3754405687
YMax: 1250219.3457019627
Spatial Reference: 103150
(6574)
LatestVCSWkid(0)
Full Extent:
XMin: 569840.5280313939
YMin: 14945.862908775453
XMax: 1861611.3754405687
YMax: 1250219.3457019627
Spatial Reference: 103150
(6574)
LatestVCSWkid(0)
Pixel Size X: 226.11077322058023
Pixel Size Y: 314.23899333329615
Band Count: 1
Pixel Type: U8
RasterFunction Infos: {"rasterFunctionInfos": [{
"name": "None",
"description": "",
"help": ""
}]}
Mensuration Capabilities: Basic
Inspection Capabilities:
Has Histograms: true
Has Colormap: false
Has Multi Dimensions : false
Rendering Rule:
Min Scale: 0
Max Scale: 0
Copyright Text:
Service Data Type: esriImageServiceDataTypeGeneric
Min Values: 0
Max Values: 255
Mean Values: 176.60195563753197
Standard Deviation Values: 22.398410988419002
Object ID Field:
Fields:
None
Default Mosaic Method: Center
Allowed Mosaic Methods:
SortField:
SortValue: null
Mosaic Operator: First
Default Compression Quality: 75
Default Resampling Method: Bilinear
Max Record Count: null
Max Image Height: 4100
Max Image Width: 15000
Max Download Image Count: null
Max Mosaic Image Count: null
Allow Raster Function: true
Allow Copy: true
Allow Analysis: true
Allow Compute TiePoints: false
Supports Statistics: false
Supports Advanced Queries: false
Use StandardizedQueries: true
Raster Type Infos:
Name: Raster Dataset
Description: Supports all ArcGIS Raster Datasets
Help:
Has Raster Attribute Table: false
Edit Fields Info: null
Ownership Based AccessControl For Rasters: null
Child Resources:
Info
Histograms
Statistics
Key Properties
Legend
Raster Function Infos
Supported Operations:
Export Image
Identify
Measure
Compute Histograms
Compute Statistics Histograms
Get Samples
Compute Class Statistics
Query Boundary
Compute Pixel Location
Compute Angles
Validate
Project